BEGIN:VCALENDAR
VERSION:2.0
PRODID:-//hacksw/handcal//NONSGML v1.0//EN
BEGIN:VEVENT
SUMMARY:Randonnee Verte (ANNULEE)
UID:4f311fc0-a69a-4509-8a84-7631b04d0018
DTSTART:20260502T220000Z
DTEND:20260503T220000Z
LOCATION:Localisation Impasse Richemont 10000 TROYES
CATEGORIES:Sportif
STATUS:
DESCRIPTION:<p><span style="font-size:12pt;"><span
 style="font-family:Aptos, sans-serif;"><span
 style="color:#000000;">Bonjour a tous,<br>
 <br>
 Nous avons le regret
 de vous informer que nous ne sommes pas en mesure d'organiser la
 <b>Randonnee Verte 2026</b> prevue le <b>3 mai</b>
 prochain.</span></span></span><br>
  </p>
 
 <p><span
 style="font-size:12pt;"><span style="font-family:Aptos,
 sans-serif;"><span style="color:#000000;">Esperant pouvoir vous
 retrouver en 2027 pour la 44eme edition de notre randonnee, nous
 souhaitons a tous de belles sorties cyclo.<br>
 <br>
 Bien
 sportivement,<br>
 Le Bureau de l'A.S. Credit Agricole
 </span></span></span></p>
URL;VALUE=URI:https://www.barbereycyclo.fr/evenements/2026/05/03/randonnee-verte-annulee-1808525
END:VEVENT
END:VCALENDAR
