BEGIN:VCALENDAR
VERSION:2.0
PRODID:-//hacksw/handcal//NONSGML v1.0//EN
BEGIN:VEVENT
SUMMARY:Randonnee 100kms TCR-EDEL
UID:66dda72b-a3a5-43a6-857d-dedb0dbdd49d
DTSTART:20260425T110000Z
DTEND:20260425T220000Z
LOCATION:Localisation   
CATEGORIES:Sportif
STATUS:
DESCRIPTION:<p style="text-align:center;"><span
 style="color:#e74c3c;"><span style="font-size:48px;">Informations a
 venir</span></span></p>
URL;VALUE=URI:https://www.barbereycyclo.fr/evenements/2026/04/25/randonnee-100kms-tcr-edel-2443282
END:VEVENT
END:VCALENDAR
